BEGIN:VCALENDAR
VERSION:2.0
PRODID:-//hacksw/handcal//NONSGML v1.0//EN
CALSCALE:GREGORIAN
BEGIN:VEVENT
UID:42
DTSTAMP:20260422T165409Z
DESCRIPTION:Niagara Corvette Club is hosting a Classic Corvette Showcase on Saturday August 8th in Thorold\, Ontario.
DTSTART:20260808T130000Z
DTEND:20260808T190000Z
LOCATION:36 Cleveland Street\, Thorold\, ON\, Canada
SUMMARY:Classic Corvette Showcase
URL;VALUE=URI:https://canadiancorvetteforums.com/events/classic-corvette-showcase.42/
END:VEVENT
END:VCALENDAR